BEGIN:VCALENDAR
VERSION:2.0
PRODID:-//Chook Digital//Cameo Cinemas//EN
BEGIN:VEVENT
DTSTAMP:20210226T122920Z
UID:no-reply@cameocinemas.com.au
DTSTART:20211208T130000Z
DTEND:20211208T130000Z
LOCATION:1628 Burwood Highway Belgrave 3160
SUMMARY;LANGUAGE=en-au:Cameo Cinemas: West Side Story
DESCRIPTION:West Side Story\nA remake of the 1961 film about two youngsters from rival New York City gangs fall in love, but tensions between their respective friends build toward tragedy.
X-ALT-DESC;FMTTYPE=text/html:<strong>Cameo Cinemas: West Side Story</strong><p>A remake of the 1961 film about two youngsters from rival New York City gangs fall in love, but tensions between their respective friends build toward tragedy.</p>
END:VEVENT
END:VCALENDAR