BEGIN:VCALENDAR
VERSION:2.0
PRODID:-//Chook Digital//Cameo Cinemas//EN
BEGIN:VEVENT
DTSTAMP:20210226T122836Z
UID:no-reply@cameocinemas.com.au
DTSTART:20211006T130000Z
DTEND:20211006T130000Z
LOCATION:1628 Burwood Highway Belgrave 3160
SUMMARY;LANGUAGE=en-au:Cameo Cinemas: Morbius
DESCRIPTION:Morbius\nDangerously ill with a rare blood disorder, and determined to save others suffering his same fate, Dr. Morbius attempts a desperate gamble. What at first appears to be a radical success soon reveals itself to be a remedy potentially worse than the disease.
X-ALT-DESC;FMTTYPE=text/html:<strong>Cameo Cinemas: Morbius</strong><p>Dangerously ill with a rare blood disorder, and determined to save others suffering his same fate, Dr. Morbius attempts a desperate gamble. What at first appears to be a radical success soon reveals itself to be a remedy potentially worse than the disease.</p>
END:VEVENT
END:VCALENDAR