BEGIN:VCALENDAR
VERSION:2.0
PRODID:-//Chook Digital//Cameo Cinemas//EN
BEGIN:VEVENT
DTSTAMP:20210226T123321Z
UID:no-reply@cameocinemas.com.au
DTSTART:20210310T130000Z
DTEND:20210310T150000Z
LOCATION:1628 Burwood Highway Belgrave 3160
SUMMARY;LANGUAGE=en-au:Cameo Cinemas: Max Richter's Sleep
DESCRIPTION:Max Richter's Sleep\n
X-ALT-DESC;FMTTYPE=text/html:<strong>Cameo Cinemas: Max Richter's Sleep</strong><p></p>
END:VEVENT
END:VCALENDAR