BEGIN:VCALENDAR
VERSION:2.0
PRODID:-//Chook Digital//Cameo Cinemas//EN
BEGIN:VEVENT
DTSTAMP:20210226T122909Z
UID:no-reply@cameocinemas.com.au
DTSTART:20211124T130000Z
DTEND:20211124T130000Z
LOCATION:1628 Burwood Highway Belgrave 3160
SUMMARY;LANGUAGE=en-au:Cameo Cinemas: Ghostbusters: Afterlife
DESCRIPTION:Ghostbusters: Afterlife\nWhen a single mom and her two kids arrive in a small town, they begin to discover their connection to the original Ghostbusters and the secret legacy their grandfather left behind.
X-ALT-DESC;FMTTYPE=text/html:<strong>Cameo Cinemas: Ghostbusters: Afterlife</strong><p>When a single mom and her two kids arrive in a small town, they begin to discover their connection to the original Ghostbusters and the secret legacy their grandfather left behind.</p>
END:VEVENT
END:VCALENDAR