BEGIN:VCALENDAR
VERSION:2.0
PRODID:-//Chook Digital//Cameo Cinemas//EN
BEGIN:VEVENT
DTSTAMP:20210226T122932Z
UID:no-reply@cameocinemas.com.au
DTSTART:20220519T140000Z
DTEND:20220519T140000Z
LOCATION:1628 Burwood Highway Belgrave 3160
SUMMARY;LANGUAGE=en-au:Cameo Cinemas: Free Guy
DESCRIPTION:Free Guy\nA bank teller called Guy realizes he is a background character in an open world video game called Free City that will soon go offline.
X-ALT-DESC;FMTTYPE=text/html:<strong>Cameo Cinemas: Free Guy</strong><p>A bank teller called Guy realizes he is a background character in an open world video game called Free City that will soon go offline.</p>
END:VEVENT
END:VCALENDAR