BEGIN:VCALENDAR
VERSION:2.0
PRODID:-//Chook Digital//Cameo Cinemas//EN
BEGIN:VEVENT
DTSTAMP:20210226T123307Z
UID:no-reply@cameocinemas.com.au
DTSTART:20210529T140000Z
DTEND:20210529T154500Z
LOCATION:1628 Burwood Highway Belgrave 3160
SUMMARY;LANGUAGE=en-au:Cameo Cinemas: Blackmail (1929)
DESCRIPTION:Blackmail (1929)\nAlice's boyfriend Frank is a Scotland Yard detective who seems more interested in police work than in her. When she agrees to go out with another man, he attacks her and she defends herself and kills him. When the body is discovered, Frank is assigned to the case. He quickly discovers that Alice is the killer, but so has someone else, and they are threatening blackmail.
X-ALT-DESC;FMTTYPE=text/html:<strong>Cameo Cinemas: Blackmail (1929)</strong><p>Alice's boyfriend Frank is a Scotland Yard detective who seems more interested in police work than in her. When she agrees to go out with another man, he attacks her and she defends herself and kills him. When the body is discovered, Frank is assigned to the case. He quickly discovers that Alice is the killer, but so has someone else, and they are threatening blackmail.</p>
END:VEVENT
END:VCALENDAR